BEGIN:VCALENDAR
VERSION:2.0
PRODID:-//Squarespace Inc/Squarespace 6//v6//EN
BEGIN:VEVENT
UID:5e43a6aa9dfb6e575346a9ae@squarespace.com
DTSTAMP:20200212T071839Z
DTSTART:20200412T180000Z
DTEND:20200412T210000Z
SUMMARY:Bulimba Golf Club
GEO:-27.444406;153.051369
LOCATION:Bulimba Golf Club
END:VEVENT
END:VCALENDAR
