BEGIN:VCALENDAR
VERSION:2.0
PRODID:-//Squarespace Inc/Squarespace 6//v6//EN
BEGIN:VEVENT
UID:5e43a51a18e6e3448f1d9acd@squarespace.com
DTSTAMP:20200212T071333Z
DTSTART:20200307T153000Z
DTEND:20200308T183000Z
SUMMARY:The Wedding and Honeymoon Bridal Expo
GEO:-27.476467;153.0184
LOCATION:Brisbane Convention Centre
END:VEVENT
END:VCALENDAR
