BEGIN:VCALENDAR
VERSION:2.0
PRODID:-//Squarespace Inc/Squarespace 6//v6//EN
BEGIN:VEVENT
UID:5e43a61a7561ee10219dbe10@squarespace.com
DTSTAMP:20200212T071658Z
DTSTART:20200329T000000Z
DTEND:20200329T034500Z
SUMMARY:Phoenix Bar - BRT
GEO:-27.320067;153.043155
LOCATION:Bracken Ridge Tavern
END:VEVENT
END:VCALENDAR
