BEGIN:VCALENDAR
VERSION:2.0
PRODID:-//Squarespace Inc/Squarespace 6//v6//EN
BEGIN:VEVENT
UID:5e43a5e418e6e3448f1dbd58@squarespace.com
DTSTAMP:20200212T071526Z
DTSTART:20200322T190000Z
DTEND:20200322T220000Z
SUMMARY:Bulimba Golf Club
GEO:-27.444406;153.051369
LOCATION:Bulimba Golf Club
END:VEVENT
END:VCALENDAR
