BEGIN:VCALENDAR
VERSION:2.0
PRODID:-//Squarespace Inc/Squarespace 6//v6//EN
BEGIN:VEVENT
UID:5dd859ef9f7cff21f2273b9e@squarespace.com
DTSTAMP:20191122T215912Z
DTSTART:20200119T200000Z
DTEND:20200119T230000Z
SUMMARY:Bulimba Golf Club
GEO:-27.444406;153.051369
LOCATION:Bulimba Golf Club
END:VEVENT
END:VCALENDAR
