BEGIN:VCALENDAR
VERSION:2.0
PRODID:-//Squarespace Inc/Squarespace 6//v6//EN
BEGIN:VEVENT
UID:5dfac60af7c9c21873d4319f@squarespace.com
DTSTAMP:20191219T003809Z
DTSTART:20200119T010000Z
DTEND:20200119T043000Z
SUMMARY:Bracken Ridge Tavern (Phoenix Bar)
GEO:-27.320174;153.041862
LOCATION:Bracken Ridge Tavern\, 154 Barrett St\, Bracken Ridge\, Brisbane
END:VEVENT
END:VCALENDAR
