BEGIN:VCALENDAR
VERSION:2.0
PRODID:-//Squarespace Inc/Squarespace 6//v6//EN
BEGIN:VEVENT
UID:5c3914874fa51a03cfc4b001@squarespace.com
DTSTAMP:20190111T221431Z
DTSTART:20190907T213000Z
DTEND:20190908T030000Z
SUMMARY:Wedding - Jana + Jesse
GEO:-27.471384;153.029913
LOCATION:stamford plaza\, Edward St &\, Margaret St\, 4000
END:VEVENT
END:VCALENDAR
