BEGIN:VCALENDAR
VERSION:2.0
PRODID:-//Squarespace Inc/Squarespace 6//v6//EN
BEGIN:VEVENT
UID:5d3e9ed8242c220001d1d1a9@squarespace.com
DTSTAMP:20190729T072347Z
DTSTART:20190922T000000Z
DTEND:20190922T035900Z
SUMMARY:Bracken Ridge Tavern
END:VEVENT
END:VCALENDAR
