BEGIN:VCALENDAR
VERSION:2.0
PRODID:-//Squarespace Inc/Squarespace 6//v6//EN
BEGIN:VEVENT
UID:5d3e9ea2fc54270001d3fed2@squarespace.com
DTSTAMP:20190729T072251Z
DTSTART:20190920T230000Z
DTEND:20190921T030000Z
SUMMARY:Park Ridge Tavern
GEO:-27.69527;153.038065
LOCATION:Park Ridge Tavern
END:VEVENT
END:VCALENDAR
