BEGIN:VCALENDAR
VERSION:2.0
PRODID:-//Squarespace Inc/Squarespace 6//v6//EN
BEGIN:VEVENT
UID:5cecf0644785d31a377738aa@squarespace.com
DTSTAMP:20190628T055005Z
DTSTART:20190825T183000Z
DTEND:20190825T213000Z
SUMMARY:Bulimba golf club
GEO:-27.447231;153.052291
LOCATION:Bulimba golf club\, Quay Street\, Bulimba\, QLD\, 4171\, Australia
END:VEVENT
END:VCALENDAR
