BEGIN:VCALENDAR
VERSION:2.0
PRODID:-//Squarespace Inc/Squarespace 6//v6//EN
BEGIN:VEVENT
UID:5d3e9e42f9125d00018e298f@squarespace.com
DTSTAMP:20190729T072140Z
DTSTART:20190817T230000Z
DTEND:20190818T030000Z
SUMMARY:Park Ridge Tavern
GEO:-27.69527;153.038065
LOCATION:Park Ridge Tavern
END:VEVENT
END:VCALENDAR
