BEGIN:VCALENDAR
VERSION:2.0
PRODID:-//Squarespace Inc/Squarespace 6//v6//EN
BEGIN:VEVENT
UID:5d1d3ef38df1e60001382f33@squarespace.com
DTSTAMP:20190703T235044Z
DTSTART:20190817T010000Z
DTEND:20190817T020000Z
SUMMARY:Fitzy's Loganholme
GEO:-27.662379;153.172744
LOCATION:Fitzy's Loganholme\, BRYANTS ROAD & PACIFIC HWY LOGANHOLME\, Logan
 \, Australia
END:VEVENT
END:VCALENDAR
