BEGIN:VCALENDAR
VERSION:2.0
PRODID:-//Squarespace Inc/Squarespace 6//v6//EN
BEGIN:VEVENT
UID:5cad0cbef4e1fceeac21ad5f@squarespace.com
DTSTAMP:20190409T212143Z
DTSTART:20190721T000000Z
DTEND:20190721T010000Z
SUMMARY:Bracken Ridge Tavern
GEO:-27.320067;153.043155
LOCATION:Bracken Ridge Tavern
END:VEVENT
END:VCALENDAR
