BEGIN:VCALENDAR
VERSION:2.0
PRODID:-//Squarespace Inc/Squarespace 6//v6//EN
BEGIN:VEVENT
UID:5ca1c4d9a4222f187420124f@squarespace.com
DTSTAMP:20190409T211956Z
DTSTART:20190630T000000Z
DTEND:20190630T035000Z
SUMMARY:Imperial Hotel\, Beenleigh
GEO:-27.716166;153.200212
LOCATION:Imperial Hotel\, 70 George Street\, Beenleigh\, QLD\, 4207\, Austr
 alia
END:VEVENT
END:VCALENDAR
