BEGIN:VCALENDAR
VERSION:2.0
PRODID:-//Squarespace Inc/Squarespace 6//v6//EN
BEGIN:VEVENT
UID:5ca1c4878165f55d1e946070@squarespace.com
DTSTAMP:20190628T054554Z
DTSTART:20190615T230000Z
DTEND:20190616T030000Z
SUMMARY:Parkridge Tavern
GEO:-27.69527;153.038065
LOCATION:Parkridge Tavern
END:VEVENT
END:VCALENDAR
