BEGIN:VCALENDAR
VERSION:2.0
PRODID:-//Squarespace Inc/Squarespace 6//v6//EN
BEGIN:VEVENT
UID:5bbefa89e79c70f80731271b@squarespace.com
DTSTAMP:20181012T193019Z
DTSTART:20190504T203000Z
DTEND:20190505T023000Z
SUMMARY:Wedding - Tammy + Stephen
GEO:-28.016667;153.4
LOCATION:Sheraton Grand Mirage\, Gold Coast
END:VEVENT
END:VCALENDAR
