BEGIN:VCALENDAR
VERSION:2.0
PRODID:-//Squarespace Inc/Squarespace 6//v6//EN
BEGIN:VEVENT
UID:5ca1c44fe2c48320572ca132@squarespace.com
DTSTAMP:20190409T213633Z
DTSTART:20190525T230000Z
DTEND:20190526T030000Z
SUMMARY:Park Ridge Tavern
GEO:40.720756;-74.000761
LOCATION:Park Ridge Tavern
END:VEVENT
END:VCALENDAR
