BEGIN:VCALENDAR
VERSION:2.0
PRODID:-//Squarespace Inc/Squarespace 6//v6//EN
BEGIN:VEVENT
UID:5c6a5c1b4e17b6274829e34e@squarespace.com
DTSTAMP:20190218T071936Z
DTSTART:20190512T000000Z
DTEND:20190512T035000Z
SUMMARY:Breakfast Creek Hotel
GEO:-27.469771;153.025124
LOCATION:Breakfast creek hotel
END:VEVENT
END:VCALENDAR
