BEGIN:VCALENDAR
VERSION:2.0
PRODID:-//Squarespace Inc/Squarespace 6//v6//EN
BEGIN:VEVENT
UID:5c61220671c10be188fac814@squarespace.com
DTSTAMP:20190211T072141Z
DTSTART:20190310T023000Z
DTEND:20190310T053000Z
SUMMARY:Victory Hotel
GEO:-27.469771;153.025124
LOCATION:victory hotel\, Brisbane
END:VEVENT
END:VCALENDAR
