BEGIN:VCALENDAR
VERSION:2.0
PRODID:-//Squarespace Inc/Squarespace 6//v6//EN
BEGIN:VEVENT
UID:5c6bae888165f5f2b2a065dc@squarespace.com
DTSTAMP:20190219T072324Z
DTSTART:20190303T190000Z
DTEND:20190303T220000Z
SUMMARY:St Peter and Paul's - Day on the Green
GEO:-27.462136;153.063547
LOCATION:St Peter and Paul's School\, Riding Road\, Hawthorne\, QLD\, 4171\
 , Australia
END:VEVENT
END:VCALENDAR
