BEGIN:VCALENDAR
VERSION:2.0
PRODID:-//Squarespace Inc/Squarespace 6//v6//EN
BEGIN:VEVENT
UID:5c91ef058165f5b9be102b95@squarespace.com
DTSTAMP:20190320T074415Z
DTSTART:20190510T210000Z
DTEND:20190511T020000Z
SUMMARY:RE HOTEL 
GEO:-27.487;152.984
LOCATION:Royal exchange hotel\, toowong
END:VEVENT
END:VCALENDAR
