BEGIN:VCALENDAR
VERSION:2.0
PRODID:-//Squarespace Inc/Squarespace 6//v6//EN
BEGIN:VEVENT
UID:5bfd0eae1ae6cf259c7931db@squarespace.com
DTSTAMP:20181127T093440Z
DTSTART:20190317T010000Z
DTEND:20190317T030000Z
SUMMARY:Hamilton Hotel
GEO:38.902963;-77.031529
LOCATION:Hamilton Hotel\, Racecourse Road\, Ascot\, QLD\, 4007\, Australia
END:VEVENT
END:VCALENDAR
