BEGIN:VCALENDAR
VERSION:2.0
PRODID:-//Squarespace Inc/Squarespace 6//v6//EN
BEGIN:VEVENT
UID:5c3c42b8575d1fa7c0af6b80@squarespace.com
DTSTAMP:20190114T080818Z
DTSTART:20190203T200000Z
DTEND:20190203T230000Z
SUMMARY:Bulimba Golf Club
GEO:-27.444406;153.051369
LOCATION:Bulimba Golf Club\, quay st
END:VEVENT
END:VCALENDAR
