BEGIN:VCALENDAR
VERSION:2.0
PRODID:-//Squarespace Inc/Squarespace 6//v6//EN
BEGIN:VEVENT
UID:5dd8599c925ca63fe0d3ab88@squarespace.com
DTSTAMP:20191122T215745Z
DTSTART:20191214T230000Z
DTEND:20191215T030000Z
SUMMARY:Bulimba Runners XMAS Party @ Bulimba GC
GEO:-27.444406;153.051369
LOCATION:Bulimba Golf Club
END:VEVENT
END:VCALENDAR
