BEGIN:VCALENDAR
VERSION:2.0
PRODID:-//Squarespace Inc/Squarespace 6//v6//EN
BEGIN:VEVENT
UID:5d9adb2bce76032d73f7ae53@squarespace.com
DTSTAMP:20191007T063057Z
DTSTART:20191201T000000Z
DTEND:20191201T040000Z
SUMMARY:Park Ridge Tavern
GEO:-27.695279;153.03824
LOCATION:Park Ridge Tavern\, 3698-3712 Mount Lindesay Hwy\, 4125
END:VEVENT
END:VCALENDAR
