BEGIN:VCALENDAR
VERSION:2.0
PRODID:-//Squarespace Inc/Squarespace 6//v6//EN
BEGIN:VEVENT
UID:5d9adaa864d4b90d4660554f@squarespace.com
DTSTAMP:20191007T062736Z
DTSTART:20191124T200000Z
DTEND:20191124T230000Z
SUMMARY:Caxton Hotel
GEO:-27.464229;153.012275
LOCATION:Caxton Hotel\, Brisbane
END:VEVENT
END:VCALENDAR
