BEGIN:VCALENDAR
VERSION:2.0
PRODID:-//Squarespace Inc/Squarespace 6//v6//EN
BEGIN:VEVENT
UID:5d9adbecf191a54349ba25cf@squarespace.com
DTSTAMP:20191007T063433Z
DTSTART:20191124T010000Z
DTEND:20191124T045000Z
SUMMARY:Phoenix Bar - Bracken Ridge Tavern
GEO:-27.320174;153.041862
LOCATION:Phoenix Bar\, 154 Barrett St\, Bracken Ridge
END:VEVENT
END:VCALENDAR
