BEGIN:VCALENDAR
VERSION:2.0
PRODID:-//Squarespace Inc/Squarespace 6//v6//EN
BEGIN:VEVENT
UID:5d86e27292c75f103f4960d6@squarespace.com
DTSTAMP:20190922T025629Z
DTSTART:20191117T200000Z
DTEND:20191117T230000Z
SUMMARY:Bulimba Golf Club
GEO:-27.444406;153.051369
LOCATION:Bulimba Golf Club
END:VEVENT
END:VCALENDAR
