BEGIN:VCALENDAR
VERSION:2.0
PRODID:-//Squarespace Inc/Squarespace 6//v6//EN
BEGIN:VEVENT
UID:5d880aeb47101b6c86b548be@squarespace.com
DTSTAMP:20190923T000124Z
DTSTART:20191006T170000Z
DTEND:20191006T180000Z
SUMMARY:Lord Mayor's Seniors Cabaret Gala concert
GEO:-27.469771;153.025124
LOCATION:Brisbane City Hall\, Brisbane
END:VEVENT
END:VCALENDAR
