BEGIN:VCALENDAR
VERSION:2.0
PRODID:-//Squarespace Inc/Squarespace 6//v6//EN
BEGIN:VEVENT
UID:5d3e9f83c260e00001742f2e@squarespace.com
DTSTAMP:20190729T072702Z
DTSTART:20191018T230000Z
DTEND:20191019T030000Z
SUMMARY:Park Ridge Tavern
GEO:-27.69527;153.038065
LOCATION:Park Ridge Tavern
END:VEVENT
END:VCALENDAR
