BEGIN:VCALENDAR
VERSION:2.0
PRODID:-//Squarespace Inc/Squarespace 6//v6//EN
BEGIN:VEVENT
UID:5babf8dfa4222f123153f9af@squarespace.com
DTSTAMP:20180926T212643Z
DTSTART:20190112T203000Z
DTEND:20190113T033000Z
SUMMARY:Clayton and Belinda's Wedding
GEO:-27.459077;153.03604
LOCATION:High Church\, 388 Brunswick Street\, Fortitude Valley\, Brisbane\, 
 Australia
END:VEVENT
END:VCALENDAR
