BEGIN:VCALENDAR
VERSION:2.0
PRODID:-//Squarespace Inc/Squarespace 6//v6//EN
BEGIN:VEVENT
UID:5b8fb38d70a6ad4209caeb61@squarespace.com
DTSTAMP:20180905T104556Z
DTSTART:20180920T180000Z
DTEND:20180921T030000Z
SUMMARY:Wedding - Dave and Kiara
GEO:-28.168614;153.544292
LOCATION:Twin towns\, Australia
END:VEVENT
END:VCALENDAR
