BEGIN:VCALENDAR
VERSION:2.0
PRODID:-//Squarespace Inc/Squarespace 6//v6//EN
BEGIN:VEVENT
UID:5bb2c64e104c7bfb726ba368@squarespace.com
DTSTAMP:20181012T192646Z
DTSTART:20181202T010000Z
DTEND:20181202T043000Z
SUMMARY:Breakfast Creek Hotel - Rum Bar
GEO:-27.440729;153.045616
LOCATION:Breakfast Creek hotel\, Brisbane
END:VEVENT
END:VCALENDAR
